BEGIN:VCALENDAR
VERSION:2.0
PRODID:-//FADA Andaluc&iacute;a Diabetes - ECPv6.15.20//NONSGML v1.0//EN
CALSCALE:GREGORIAN
METHOD:PUBLISH
X-WR-CALNAME:FADA Andaluc&iacute;a Diabetes
X-ORIGINAL-URL:https://fadaandalucia.org
X-WR-CALDESC:Eventos para FADA Andaluc&iacute;a Diabetes
REFRESH-INTERVAL;VALUE=DURATION:PT1H
X-Robots-Tag:noindex
X-PUBLISHED-TTL:PT1H
BEGIN:VTIMEZONE
TZID:UTC
BEGIN:STANDARD
TZOFFSETFROM:+0000
TZOFFSETTO:+0000
TZNAME:UTC
DTSTART:20250101T000000
END:STANDARD
END:VTIMEZONE
BEGIN:VEVENT
DTSTART;VALUE=DATE:20260701
DTEND;VALUE=DATE:20260706
DTSTAMP:20260424T133956
CREATED:20260409T174629Z
LAST-MODIFIED:20260409T174629Z
UID:1887-1782864000-1783295999@fadaandalucia.org
SUMMARY:Campamento de Verano - ADIMA
DESCRIPTION:La asociación de diabetes de Málaga\, organiza su campamento de verano educativo en diabetes en el Complejo Rural El Molinillo\, Arenas del Rey. El campamento se realizará del 1 al 5 de julio. \nPara asistir al campamento deberás ponerte en contacto con la asociación ADIMA. \nHaz click aquí para más información
URL:https://fadaandalucia.org/eventos/adima-010726/
LOCATION:Complejo Rural el Molinillo\, Crta. Gr3302\, Km.19\, 5\, Arenas del Rey\, Granada\, 18126\, España
ATTACH;FMTTYPE=image/png:https://fadaandalucia.org/wp-content/uploads/2024/04/ADIMA.png
ORGANIZER;CN="ADIMA":MAILTO:adima@diabetesmalaga.es
END:VEVENT
BEGIN:VEVENT
DTSTART;VALUE=DATE:20260712
DTEND;VALUE=DATE:20260719
DTSTAMP:20260424T133956
CREATED:20260409T165031Z
LAST-MODIFIED:20260409T165031Z
UID:1873-1783814400-1784419199@fadaandalucia.org
SUMMARY:Campamento de verano - AGRADI
DESCRIPTION:La asociación de diabetes de Granada\, organiza la 29 edición de su campamento de verano educativo en diabetes en el Molino de Lecrín\, Dúrcal. El campamento se realizará del 12 al 18 de julio. \nPara asistir al campamento deberás ponerte en contacto con la asociación AGRADI. \nHaz click aquí para más información
URL:https://fadaandalucia.org/eventos/agradi-120726/
LOCATION:El Molino de Lecrín\, Cuesta de Cozvijar s/n\, Dúrcal\, Granada\, 18650
ATTACH;FMTTYPE=image/png:https://fadaandalucia.org/wp-content/uploads/2024/02/AGRADI.png
ORGANIZER;CN="AGRADI":MAILTO:agradi@gmail.com
END:VEVENT
BEGIN:VEVENT
DTSTART;VALUE=DATE:20260712
DTEND;VALUE=DATE:20260719
DTSTAMP:20260424T133956
CREATED:20260409T171013Z
LAST-MODIFIED:20260409T171013Z
UID:1877-1783814400-1784419199@fadaandalucia.org
SUMMARY:Campamento de Verano - ADICOR
DESCRIPTION:La asociación de diabetes de Córdoba\, organiza su campamento de verano educativo en diabetes en Villaduke es Aventura\, Villanueva del Duque. El campamento se realizará del 12 al 18 de julio. \nPara asistir al campamento deberás ponerte en contacto con la asociación ADICOR. \nHaz click aquí para más información
URL:https://fadaandalucia.org/eventos/adicor-120726/
LOCATION:Villaduke Esaventura\, Paraje Dehesa Boyal\, s/n\, Carretera Peñarroya\, Villanueva del Duque\, Córdoba\, 14250
ATTACH;FMTTYPE=image/png:https://fadaandalucia.org/wp-content/uploads/2024/04/ADICOR.png
ORGANIZER;CN="ADICOR":MAILTO:adicorc@gmail.com
END:VEVENT
BEGIN:VEVENT
DTSTART;VALUE=DATE:20260712
DTEND;VALUE=DATE:20260719
DTSTAMP:20260424T133956
CREATED:20260409T224928Z
LAST-MODIFIED:20260409T224928Z
UID:1905-1783814400-1784419199@fadaandalucia.org
SUMMARY:Campamento de Verano - ADEN
DESCRIPTION:La asociación de diabetes de Jaén\, organiza su campamento de verano educativo en diabetes en Imagina Summer Camp\, Bedmar. El campamento se realizará del 12 al 18 de julio. \nPara asistir al campamento deberás ponerte en contacto con la asociación ADEN Jaén. \nHaz click aquí para más información
URL:https://fadaandalucia.org/eventos/aden-120726/
LOCATION:Imagina Summer Camp\, Finca La Salina\, Bedmar\, Jaén\, 23537\, Spain
ATTACH;FMTTYPE=image/png:https://fadaandalucia.org/wp-content/uploads/2024/05/ADEN.png
ORGANIZER;CN="ADEN":MAILTO:aden@diabeticosjaen.es
END:VEVENT
BEGIN:VEVENT
DTSTART;VALUE=DATE:20260713
DTEND;VALUE=DATE:20260717
DTSTAMP:20260424T133956
CREATED:20260409T172414Z
LAST-MODIFIED:20260409T181318Z
UID:1880-1783900800-1784246399@fadaandalucia.org
SUMMARY:Campamento de Verano - ADIAL
DESCRIPTION:La asociación de diabetes de Almería\, organiza su campamento de verano educativo en diabetes en el Campamento Juan de Austria\, Roquetas de Mar. El campamento se realizará del 13 al 16 de julio. \nPara asistir al campamento deberás ponerte en contacto con la asociación ADIAL. \nHaz click aquí para más información
URL:https://fadaandalucia.org/eventos/adial-130726/
LOCATION:Campamento Juan de Austria\, Playa de El Pocico s/n\, Roquetas de Mar\, Almería\, 04720\, Spain
ATTACH;FMTTYPE=image/png:https://fadaandalucia.org/wp-content/uploads/2026/04/ADIAL-scaled.png
ORGANIZER;CN="ADIAL":MAILTO:adialdiabetes@gmail.com
END:VEVENT
BEGIN:VEVENT
DTSTART;VALUE=DATE:20260724
DTEND;VALUE=DATE:20260729
DTSTAMP:20260424T133956
CREATED:20260409T224204Z
LAST-MODIFIED:20260409T224204Z
UID:1902-1784851200-1785283199@fadaandalucia.org
SUMMARY:Campamento de Verano - Dulces Unidos
DESCRIPTION:La asociación de diabetes Dulces Unidos de Huelva\, organiza su campamento de verano educativo en diabetes en Andévalo Aventura\, Santa Bárbara de Casa. El campamento se realizará del 24 al 28 de julio. \nPara asistir al campamento deberás ponerte en contacto con la asociación Dulces Unidos. \nHaz click aquí para más información
URL:https://fadaandalucia.org/eventos/dulces-unidos-240726/
LOCATION:Andévalo Aventura\, Finca El Baldío Sn\, Santa Bárbara de Casa\, Huelva\, 21570\, España
ATTACH;FMTTYPE=image/png:https://fadaandalucia.org/wp-content/uploads/2023/10/Asociacion-Dulces-Unidos.png
ORGANIZER;CN="Asociaci%C3%B3n Dulces Unidos":MAILTO:asociaciondulcesunidos@gmail.com
END:VEVENT
BEGIN:VEVENT
DTSTART;VALUE=DATE:20260724
DTEND;VALUE=DATE:20260731
DTSTAMP:20260424T133956
CREATED:20260409T175438Z
LAST-MODIFIED:20260409T175438Z
UID:1889-1784851200-1785455999@fadaandalucia.org
SUMMARY:Campamento de Verano - ANADIS
DESCRIPTION:La asociación de diabetes de Sevilla\, organiza su XXIII campamento de verano educativo en diabetes en Coto de la Isleta\, El Puerto de Santa María. El campamento se realizará del 24 al 30 de julio. \nPara asistir al campamento deberás ponerte en contacto con la asociación ANADIS. \nHaz click aquí para más información
URL:https://fadaandalucia.org/eventos/anadis-240726/
LOCATION:CEAAN Coto de la Isleta\, Camino del Tiro Pichón\, El Puerto de Santa María\, Cádiz\, 11500\, Spain
ATTACH;FMTTYPE=image/png:https://fadaandalucia.org/wp-content/uploads/2023/09/AGENDA-EVENTOS.png
ORGANIZER;CN="ANADIS Diabetes Sevilla":MAILTO:campamento@anadisevilla.org
END:VEVENT
BEGIN:VEVENT
DTSTART;VALUE=DATE:20260727
DTEND;VALUE=DATE:20260801
DTSTAMP:20260424T133956
CREATED:20260409T170337Z
LAST-MODIFIED:20260409T170337Z
UID:1875-1785110400-1785542399@fadaandalucia.org
SUMMARY:Campamento de Verano - Huelva Diabetes
DESCRIPTION:La asociación de diabetes de Huelva\, organiza su campamento de verano educativo en diabetes en Waigunga\, Lepe. El campamento se realizará del 27 al 31 de julio. \nPara asistir al campamento deberás ponerte en contacto con la asociación Huelva Diabetes. \nHaz click aquí para más información
URL:https://fadaandalucia.org/eventos/huelva-diabetes-270726/
LOCATION:Waingunga\, Finca Dehesa del Piorno\, s/n\, Lepe\, Huelva\, 21440\, España
ATTACH;FMTTYPE=image/png:https://fadaandalucia.org/wp-content/uploads/2023/10/AGENDA-EVENTOS-1.png
ORGANIZER;CN="Huelva Diabetes":MAILTO:info@huelvadiabetes.com
END:VEVENT
BEGIN:VEVENT
DTSTART;VALUE=DATE:20260816
DTEND;VALUE=DATE:20260822
DTSTAMP:20260424T133956
CREATED:20260409T180248Z
LAST-MODIFIED:20260409T180248Z
UID:1892-1786838400-1787356799@fadaandalucia.org
SUMMARY:Campamento de Verano - FGD
DESCRIPTION:La federación de diabetes de Cádiz\, organiza su XXV campamento de verano educativo en diabetes en Granja Escuela Buenavista\, Arcos de la Frontera. El campamento se realizará del 16 al 21 de agosto. \nPara asistir al campamento deberás ponerte en contacto con cualquier asociación de la Federación Gaditana de Diabetes. \nHaz click aquí para más información
URL:https://fadaandalucia.org/eventos/fgd-160826/
LOCATION:Granja Escuela Buenavista\, Lugar Junta de los Ríos\, s/n\, Arcos de la Frontera\, Cádiz\, 11620\, España
ATTACH;FMTTYPE=image/png:https://fadaandalucia.org/wp-content/uploads/2026/04/fgd-scaled.png
ORGANIZER;CN="+Vida Chiclana":MAILTO:masvida_chiclana@hotmail.com
END:VEVENT
END:VCALENDAR